Workbook

Sheet Description
A1: Powe range | B1: Pmax | D1: Category | F1: User type | H1: Financial model | I1: dummy_user | K1: Supplier | M1: Tariff | O1: Disbursement | Q1: Load profile id
A2: 0<P<=1.5 | B2: 1.5 | D2: domestico | F2: prosumer | H2: Individuale | K2: indexed | M2: schema_1 | O2: 2022-01 | Q2: measures profile
A3: 1.5<P<=3 | B3: 3 | D3: pubblico | F3: consumer | H3: Individuale - ESCo | K3: flat_11 | M3: schema_2 | O3: 2022-02 | Q3: emulated profile
A4: 3<P<=4.5 | B4: 4.5 | D4: utenza condominiale | F4: producer | H4: Collettivo - Equity crowdfunding | I4: TRUE | K4: flat_15 | M4: schema_3 | O4: 2022-03 | Q4: arera
A5: 4.5<P<=6 | B5: 6 | D5: commerciale | H5: Comunitario | I5: TRUE | K5: maggior_tutela | O5: 2022-04 | Q5: palestra_comunale
A6: P>6 | B6: 15 | D6: comune | H6: Comunitario - Lending crowdfunding | I6: TRUE | O6: 2022-05 | Q6: ufficio_comunale
A7: - | B7: Altro | D7: scuola | H7: Comunitario - ESCo | I7: TRUE | O7: 2022-06 | Q7: biblioteca_comunale
D8: industriale | O8: 2022-07 | Q8: liceo
D9: supermercato | O9: 2022-08 | Q9: cinema_comunale
D10: ristorazione | O10: 2022-09 | Q10: IND_AL_1turno
D11: religioso | O11: 2022-10 | Q11: IND_micro_1turno_PIEM
D12: bar | O12: 2022-11 | Q12: IND_piccola_1turno_PIEM
D13: albergo | O13: 2022-12 | Q13: IND_micro_3turni_PIEM
D14: ufficio | O14: 2023-01 | Q14: IND_piccola_3turni_PIEM
D15: parrucchiere | O15: 2023-02 | Q15: utenza_condominiale_grande
D16: colonnina | O16: 2023-03 | Q16: utenza_condominiale_media
D17: altro | O17: 2023-04 | Q17: utenza_condominiale_piccola
O18: 2023-05 | Q18: scuola_500_studenti
O19: 2023-06 | Q19: PA_comune
O20: 2023-07 | Q20: COM_1.5<P<=3_festivo
O21: 2023-08 | Q21: COM_>6kw_feriale
O22: 2023-09 | Q22: IND_media_1turno_feriale
O23: 2023-10 | Q23: IND_media_1turno_festivo
O24: 2023-11 | Q24: IND_piccola_3turni_festivo
O25: 2023-12 | Q25: IND_piccola_1turno_festivo
O26: 2024-01 | Q26: IND_micro_1turno_feriale
O27: 2024-02 | Q27: IND_piccola_1turno_feriale
O28: 2024-03 | Q28: IND_micro_1turno_festivo
O29: 2024-04
O30: 2024-05
O31: 2024-06
O32: 2024-07
O33: 2024-08
O34: 2024-09
O35: 2024-10
O36: 2024-11
O37: 2024-12
O38: 2025-01
O39: 2025-02
O40: 2025-03
...

Sheet Utenti
A1: number_type_id | B1: flag | C1: user_type | D1: num | E1: stakeholder | F1: type | G1: consuming | H1: producing | I1: category | J1: power_range | K1: supplier | L1: tariff | M1: load_profile_id | N1: pv | O1: tilt_angle | P1: azimuth | Q1: wind | R1: battery | S1: new_plant | T1: voltage | U1: pv_mounting | V1: mv_cabinet | W1: error | X1: flag_cacer | Y1: denomination | Z1: funding_scheme | AA1: dummy_user | AB1: condominium | AC1: grant_private | AD1: grant_pnrr | AE1: debt | AF1: disbursement_month | AG1: commissioning_month | AH1: entry_month | AI1: exit_month | AJ1: CP | AK1: location
A2: {=IFERROR(INDIRECT(ADDRESS(ROW()-1,COLUMN()))+1,1)} -> 1 | B2: TRUE | C2: ="municipal_office" -> municipal_office | D2: 1 | E2: PA | F2: {=_xlfn.IFS(AND(G2,H2),"prosumer",G2,"consumer",H2,"producer")} -> consumer | G2: =IF(M2<>"",TRUE,FALSE) -> TRUE | H2: =IF(SUM(N2:R2)>0,TRUE,FALSE) -> FALSE | I2: pubblico | J2: 3<P<=4.5 | K2: maggior_tutela | L2: schema_3 | M2: ufficio_comunale | S2: FALSE | T2: BT | W2: =IF(AND(H2=FALSE,G2=FALSE),1,0) + IF(AND(NOT(B2),D2>0),1,0) -> 0 | X2: TRUE | Y2: palazzo comunale | Z2: Individuale | AA2: =IFERROR(INDEX(Description!$I$2:$I$7,MATCH(Utenti!Z2,Description!$H$2:$H$7,0)),"") -> 0 | AC2: 0 | AD2: 0 | AE2: 0 | AF2: 1 | AG2: 4 | AH2: 1 | AI2: end | AJ2: CP1 | AK2: Magnano
A3: {=IFERROR(INDIRECT(ADDRESS(ROW()-1,COLUMN()))+1,1)} -> 2 | B3: TRUE | C3: ="public_library" -> public_library | D3: 1 | E3: PA | F3: {=_xlfn.IFS(AND(G3,H3),"prosumer",G3,"consumer",H3,"producer")} -> consumer | G3: =IF(M3<>"",TRUE,FALSE) -> TRUE | H3: =IF(SUM(N3:R3)>0,TRUE,FALSE) -> FALSE | I3: pubblico | J3: 3<P<=4.5 | K3: maggior_tutela | L3: schema_3 | M3: biblioteca_comunale | S3: TRUE | T3: MT | W3: =IF(AND(H3=FALSE,G3=FALSE),1,0) + IF(AND(NOT(B3),D3>0),1,0) -> 0 | X3: TRUE | Y3: biblioteca pubblica | Z3: Individuale | AA3: =IFERROR(INDEX(Description!$I$2:$I$7,MATCH(Utenti!Z3,Description!$H$2:$H$7,0)),"") -> 0 | AC3: 0 | AD3: 0 | AE3: 0.5 | AF3: 1 | AG3: =AF3+6 -> 7 | AH3: =AG3 -> 7 | AI3: end | AJ3: CP1 | AK3: Magnano
A4: {=IFERROR(INDIRECT(ADDRESS(ROW()-1,COLUMN()))+1,1)} -> 3 | B4: TRUE | C4: ="comune" -> comune | D4: 4 | E4: PA | F4: {=_xlfn.IFS(AND(G4,H4),"prosumer",G4,"consumer",H4,"producer")} -> consumer | G4: =IF(M4<>"",TRUE,FALSE) -> TRUE | H4: =IF(SUM(N4:R4)>0,TRUE,FALSE) -> FALSE | I4: pubblico | J4: 3<P<=4.5 | K4: maggior_tutela | L4: schema_3 | M4: PA_comune | S4: TRUE | T4: MT | W4: =IF(AND(H4=FALSE,G4=FALSE),1,0) + IF(AND(NOT(B4),D4>0),1,0) -> 0 | X4: TRUE | Y4: beni comunali | Z4: Individuale | AA4: =IFERROR(INDEX(Description!$I$2:$I$7,MATCH(Utenti!Z4,Description!$H$2:$H$7,0)),"") -> 0 | AC4: 0 | AD4: 0 | AE4: 0 | AF4: 1 | AG4: 1 | AH4: =AG4 -> 1 | AI4: end | AJ4: CP1 | AK4: Magnano
A5: {=IFERROR(INDIRECT(ADDRESS(ROW()-1,COLUMN()))+1,1)} -> 4 | B5: TRUE | C5: church | D5: 5 | F5: {=_xlfn.IFS(AND(G5,H5),"prosumer",G5,"consumer",H5,"producer")} -> consumer | G5: =IF(M5<>"",TRUE,FALSE) -> TRUE | H5: =IF(SUM(N5:R5)>0,TRUE,FALSE) -> FALSE | I5: pubblico | J5: 3<P<=4.5 | K5: maggior_tutela | L5: schema_3 | M5: arera | S5: TRUE | T5: MT | W5: =IF(AND(H5=FALSE,G5=FALSE),1,0) + IF(AND(NOT(B5),D5>0),1,0) -> 0 | X5: TRUE | Y5: ente religioso | Z5: Individuale | AA5: =IFERROR(INDEX(Description!$I$2:$I$7,MATCH(Utenti!Z5,Description!$H$2:$H$7,0)),"") -> 0 | AC5: 0 | AD5: 0 | AE5: 0 | AF5: 1 | AG5: 1 | AH5: 1 | AI5: end | AJ5: CP1 | AK5: Magnano
A6: {=IFERROR(INDIRECT(ADDRESS(ROW()-1,COLUMN()))+1,1)} -> 5 | B6: TRUE | C6: terzo_settore | D6: 1 | F6: {=_xlfn.IFS(AND(G6,H6),"prosumer",G6,"consumer",H6,"producer")} -> consumer | G6: =IF(M6<>"",TRUE,FALSE) -> TRUE | H6: =IF(SUM(N6:R6)>0,TRUE,FALSE) -> FALSE | I6: commerciale | J6: 3<P<=4.5 | K6: maggior_tutela | L6: schema_3 | M6: IND_media_1turno_feriale | S6: TRUE | T6: MT | W6: =IF(AND(H6=FALSE,G6=FALSE),1,0) + IF(AND(NOT(B6),D6>0),1,0) -> 0 | X6: TRUE | Y6: ente terzo settore | Z6: Individuale | AA6: =IFERROR(INDEX(Description!$I$2:$I$7,MATCH(Utenti!Z6,Description!$H$2:$H$7,0)),"") -> 0 | AC6: 0 | AD6: 0 | AE6: 0 | AF6: 1 | AG6: =AF6+3 -> 4 | AH6: =AG6 -> 4 | AI6: end | AJ6: CP1 | AK6: Magnano
A7: {=IFERROR(INDIRECT(ADDRESS(ROW()-1,COLUMN()))+1,1)} -> 6 | B7: TRUE | C7: utenza_privata | D7: 21 | F7: {=_xlfn.IFS(AND(G7,H7),"prosumer",G7,"consumer",H7,"producer")} -> consumer | G7: =IF(M7<>"",TRUE,FALSE) -> TRUE | H7: =IF(SUM(N7:R7)>0,TRUE,FALSE) -> FALSE | I7: domestico | J7: 3<P<=4.5 | K7: maggior_tutela | L7: schema_3 | M7: arera | S7: TRUE | T7: BT | W7: =IF(AND(H7=FALSE,G7=FALSE),1,0) + IF(AND(NOT(B7),D7>0),1,0) -> 0 | X7: TRUE | Y7: utenza privata residenziale | Z7: Individuale | AA7: =IFERROR(INDEX(Description!$I$2:$I$7,MATCH(Utenti!Z7,Description!$H$2:$H$7,0)),"") -> 0 | AC7: 0 | AD7: 0 | AE7: 0 | AF7: 1 | AG7: 1 | AH7: 1 | AI7: end | AJ7: CP1 | AK7: Magnano
A8: {=IFERROR(INDIRECT(ADDRESS(ROW()-1,COLUMN()))+1,1)} -> 7 | B8: TRUE | C8: utenza_privata_prosumer | D8: 3 | F8: {=_xlfn.IFS(AND(G8,H8),"prosumer",G8,"consumer",H8,"producer")} -> prosumer | G8: =IF(M8<>"",TRUE,FALSE) -> TRUE | H8: =IF(SUM(N8:R8)>0,TRUE,FALSE) -> TRUE | I8: domestico | J8: 3<P<=4.5 | K8: maggior_tutela | L8: schema_3 | M8: arera | N8: 6 | O8: 40 | P8: 180 | R8: 10 | S8: TRUE | T8: BT | U8: roof | W8: =IF(AND(H8=FALSE,G8=FALSE),1,0) + IF(AND(NOT(B8),D8>0),1,0) -> 0 | X8: TRUE | Y8: prosumer residenza privata | Z8: Individuale | AA8: =IFERROR(INDEX(Description!$I$2:$I$7,MATCH(Utenti!Z8,Description!$H$2:$H$7,0)),"") -> 0 | AC8: 0 | AD8: 0 | AE8: 0 | AF8: 1 | AG8: =AF8+3 -> 4 | AH8: =AG8 -> 4 | AI8: end | AJ8: CP1 | AK8: Magnano
A9: {=IFERROR(INDIRECT(ADDRESS(ROW()-1,COLUMN()))+1,1)} -> 8 | C9: household_big | D9: 5 | F9: {=_xlfn.IFS(AND(G9,H9),"prosumer",G9,"consumer",H9,"producer")} -> consumer | G9: =IF(M9<>"",TRUE,FALSE) -> TRUE | H9: =IF(SUM(N9:R9)>0,TRUE,FALSE) -> FALSE | I9: domestico | J9: 4.5<P<=6 | K9: flat_11 | L9: schema_3 | M9: arera | S9: TRUE | T9: BT | W9: =IF(AND(H9=FALSE,G9=FALSE),1,0) + IF(AND(NOT(B9),D9>0),1,0) -> 1 | X9: TRUE | Y9: =C9 -> household_big | Z9: Individuale | AA9: =IFERROR(INDEX(Description!$I$2:$I$7,MATCH(Utenti!Z9,Description!$H$2:$H$7,0)),"") -> 0 | AC9: 0 | AD9: 0 | AE9: 0 | AF9: 1 | AG9: 1 | AH9: 1 | AI9: end | AJ9: CP1 | AK9: Magnano
A10: {=IFERROR(INDIRECT(ADDRESS(ROW()-1,COLUMN()))+1,1)} -> 9 | C10: household_big_prosumer | F10: {=_xlfn.IFS(AND(G10,H10),"prosumer",G10,"consumer",H10,"producer")} -> prosumer | G10: =IF(M10<>"",TRUE,FALSE) -> TRUE | H10: =IF(SUM(N10:R10)>0,TRUE,FALSE) -> TRUE | I10: domestico | J10: 4.5<P<=6 | K10: flat_11 | L10: schema_3 | M10: arera | N10: 10 | O10: 40 | P10: 180 | S10: TRUE | T10: BT | U10: roof | W10: =IF(AND(H10=FALSE,G10=FALSE),1,0) + IF(AND(NOT(B10),D10>0),1,0) -> 0 | X10: TRUE | Y10: =C10 -> household_big_prosumer | Z10: Individuale | AA10: =IFERROR(INDEX(Description!$I$2:$I$7,MATCH(Utenti!Z10,Description!$H$2:$H$7,0)),"") -> 0 | AC10: 0 | AD10: 0 | AE10: 0 | AF10: 1 | AG10: =AF10+3 -> 4 | AH10: =AG10 -> 4 | AI10: end | AJ10: CP1 | AK10: Magnano
A11: {=IFERROR(INDIRECT(ADDRESS(ROW()-1,COLUMN()))+1,1)} -> 10 | C11: business_small | D11: 2 | F11: {=_xlfn.IFS(AND(G11,H11),"prosumer",G11,"consumer",H11,"producer")} -> consumer | G11: =IF(M11<>"",TRUE,FALSE) -> TRUE | H11: =IF(SUM(N11:R11)>0,TRUE,FALSE) -> FALSE | I11: commerciale | J11: 3<P<=4.5 | K11: flat_11 | L11: schema_3 | M11: arera | S11: TRUE | T11: BT | W11: =IF(AND(H11=FALSE,G11=FALSE),1,0) + IF(AND(NOT(B11),D11>0),1,0) -> 1 | X11: TRUE | Y11: =C11 -> business_small | Z11: Individuale | AA11: =IFERROR(INDEX(Description!$I$2:$I$7,MATCH(Utenti!Z11,Description!$H$2:$H$7,0)),"") -> 0 | AC11: 0 | AD11: 0 | AE11: 0 | AF11: 1 | AG11: 1 | AH11: 1 | AI11: end | AJ11: CP1 | AK11: Magnano
A12: {=IFERROR(INDIRECT(ADDRESS(ROW()-1,COLUMN()))+1,1)} -> 11 | C12: business_medium | F12: {=_xlfn.IFS(AND(G12,H12),"prosumer",G12,"consumer",H12,"producer")} -> consumer | G12: =IF(M12<>"",TRUE,FALSE) -> TRUE | H12: =IF(SUM(N12:R12)>0,TRUE,FALSE) -> FALSE | I12: commerciale | J12: 3<P<=4.5 | K12: flat_11 | L12: schema_3 | M12: arera | S12: TRUE | T12: BT | W12: =IF(AND(H12=FALSE,G12=FALSE),1,0) + IF(AND(NOT(B12),D12>0),1,0) -> 0 | X12: TRUE | Y12: =C12 -> business_medium | Z12: Individuale | AA12: =IFERROR(INDEX(Description!$I$2:$I$7,MATCH(Utenti!Z12,Description!$H$2:$H$7,0)),"") -> 0 | AC12: 0 | AD12: 0 | AE12: 0 | AF12: 1 | AG12: 1 | AH12: 1 | AI12: end | AJ12: CP1 | AK12: Magnano
A13: {=IFERROR(INDIRECT(ADDRESS(ROW()-1,COLUMN()))+1,1)} -> 12 | C13: business_medium_litigioso | F13: {=_xlfn.IFS(AND(G13,H13),"prosumer",G13,"consumer",H13,"producer")} -> prosumer | G13: =IF(M13<>"",TRUE,FALSE) -> TRUE | H13: =IF(SUM(N13:R13)>0,TRUE,FALSE) -> TRUE | I13: commerciale | J13: 4.5<P<=6 | K13: flat_11 | L13: schema_3 | M13: COM_1.5<P<=3_festivo | N13: 10 | O13: 40 | P13: 180 | R13: 20 | S13: TRUE | T13: BT | U13: roof | W13: =IF(AND(H13=FALSE,G13=FALSE),1,0) + IF(AND(NOT(B13),D13>0),1,0) -> 0 | X13: TRUE | Y13: =C13 -> business_medium_litigioso | Z13: Individuale | AA13: =IFERROR(INDEX(Description!$I$2:$I$7,MATCH(Utenti!Z13,Description!$H$2:$H$7,0)),"") -> 0 | AC13: 0 | AD13: 0 | AE13: 0 | AF13: 1 | AG13: =AF13+3 -> 4 | AH13: =AG13 -> 4 | AI13: 18 | AJ13: CP1 | AK13: Magnano
A14: {=IFERROR(INDIRECT(ADDRESS(ROW()-1,COLUMN()))+1,1)} -> 13 | C14: municipal_office | E14: PA | F14: {=_xlfn.IFS(AND(G14,H14),"prosumer",G14,"consumer",H14,"producer")} -> consumer | G14: =IF(M14<>"",TRUE,FALSE) -> TRUE | H14: =IF(SUM(N14:R14)>0,TRUE,FALSE) -> FALSE | I14: pubblico | J14: P>6 | K14: indexed | L14: schema_3 | M14: ufficio_comunale | S14: TRUE | T14: BT | W14: =IF(AND(H14=FALSE,G14=FALSE),1,0) + IF(AND(NOT(B14),D14>0),1,0) -> 0 | X14: TRUE | Y14: municipal office | Z14: Individuale | AA14: =IFERROR(INDEX(Description!$I$2:$I$7,MATCH(Utenti!Z14,Description!$H$2:$H$7,0)),"") -> 0 | AC14: 0 | AD14: 0 | AE14: 0 | AF14: 1 | AG14: 1 | AH14: 1 | AI14: end | AJ14: CP1 | AK14: Magnano
A15: {=IFERROR(INDIRECT(ADDRESS(ROW()-1,COLUMN()))+1,1)} -> 14 | C15: public_gym | E15: PA | F15: {=_xlfn.IFS(AND(G15,H15),"prosumer",G15,"consumer",H15,"producer")} -> consumer | G15: =IF(M15<>"",TRUE,FALSE) -> TRUE | H15: =IF(SUM(N15:R15)>0,TRUE,FALSE) -> FALSE | I15: pubblico | J15: P>6 | K15: indexed | L15: schema_3 | M15: palestra_comunale | S15: TRUE | T15: BT | W15: =IF(AND(H15=FALSE,G15=FALSE),1,0) + IF(AND(NOT(B15),D15>0),1,0) -> 0 | X15: TRUE | Y15: public gym | Z15: Individuale | AA15: =IFERROR(INDEX(Description!$I$2:$I$7,MATCH(Utenti!Z15,Description!$H$2:$H$7,0)),"") -> 0 | AC15: 0 | AD15: 0 | AE15: 0 | AF15: 1 | AG15: 1 | AH15: 1 | AI15: end | AJ15: CP1 | AK15: Magnano
A16: {=IFERROR(INDIRECT(ADDRESS(ROW()-1,COLUMN()))+1,1)} -> 15 | C16: public_library | E16: PA | F16: {=_xlfn.IFS(AND(G16,H16),"prosumer",G16,"consumer",H16,"producer")} -> consumer | G16: =IF(M16<>"",TRUE,FALSE) -> TRUE | H16: =IF(SUM(N16:R16)>0,TRUE,FALSE) -> FALSE | I16: pubblico | J16: P>6 | K16: indexed | L16: schema_3 | M16: biblioteca_comunale | S16: TRUE | T16: BT | W16: =IF(AND(H16=FALSE,G16=FALSE),1,0) + IF(AND(NOT(B16),D16>0),1,0) -> 0 | X16: TRUE | Y16: public library | Z16: Individuale | AA16: =IFERROR(INDEX(Description!$I$2:$I$7,MATCH(Utenti!Z16,Description!$H$2:$H$7,0)),"") -> 0 | AC16: 0 | AD16: 0 | AE16: 0 | AF16: 1 | AG16: 1 | AH16: 1 | AI16: end | AJ16: CP1 | AK16: Magnano
A17: {=IFERROR(INDIRECT(ADDRESS(ROW()-1,COLUMN()))+1,1)} -> 16 | C17: public_cinema | E17: PA | F17: {=_xlfn.IFS(AND(G17,H17),"prosumer",G17,"consumer",H17,"producer")} -> consumer | G17: =IF(M17<>"",TRUE,FALSE) -> TRUE | H17: =IF(SUM(N17:R17)>0,TRUE,FALSE) -> FALSE | I17: pubblico | J17: P>6 | K17: indexed | L17: schema_3 | M17: cinema_comunale | S17: TRUE | T17: BT | W17: =IF(AND(H17=FALSE,G17=FALSE),1,0) + IF(AND(NOT(B17),D17>0),1,0) -> 0 | X17: TRUE | Y17: public cinema | Z17: Individuale | AA17: =IFERROR(INDEX(Description!$I$2:$I$7,MATCH(Utenti!Z17,Description!$H$2:$H$7,0)),"") -> 0 | AC17: 0 | AD17: 0 | AE17: 0 | AF17: 1 | AG17: 1 | AH17: 1 | AI17: end | AJ17: CP1 | AK17: Magnano
A18: {=IFERROR(INDIRECT(ADDRESS(ROW()-1,COLUMN()))+1,1)} -> 17 | C18: public_school | E18: PA | F18: {=_xlfn.IFS(AND(G18,H18),"prosumer",G18,"consumer",H18,"producer")} -> prosumer | G18: =IF(M18<>"",TRUE,FALSE) -> TRUE | H18: =IF(SUM(N18:R18)>0,TRUE,FALSE) -> TRUE | I18: pubblico | J18: P>6 | K18: indexed | L18: schema_3 | M18: liceo | N18: 20 | O18: 40 | P18: 180 | S18: TRUE | T18: BT | U18: roof | W18: =IF(AND(H18=FALSE,G18=FALSE),1,0) + IF(AND(NOT(B18),D18>0),1,0) -> 0 | X18: TRUE | Y18: school 1 | Z18: Individuale | AA18: =IFERROR(INDEX(Description!$I$2:$I$7,MATCH(Utenti!Z18,Description!$H$2:$H$7,0)),"") -> 0 | AC18: 0 | AD18: 0 | AE18: 0 | AF18: 1 | AG18: 1 | AH18: 1 | AI18: end | AJ18: CP1 | AK18: Magnano
A19: {=IFERROR(INDIRECT(ADDRESS(ROW()-1,COLUMN()))+1,1)} -> 18 | C19: school_1000_students | F19: {=_xlfn.IFS(AND(G19,H19),"prosumer",G19,"consumer",H19,"producer")} -> prosumer | G19: =IF(M19<>"",TRUE,FALSE) -> TRUE | H19: =IF(SUM(N19:R19)>0,TRUE,FALSE) -> TRUE | I19: pubblico | J19: 3<P<=4.5 | K19: flat_11 | L19: schema_3 | M19: scuola_1000_studenti | N19: 30 | O19: 40 | P19: 180 | S19: TRUE | T19: BT | U19: roof | W19: =IF(AND(H19=FALSE,G19=FALSE),1,0) + IF(AND(NOT(B19),D19>0),1,0) -> 0 | X19: TRUE | Y19: scuola media | Z19: Individuale | AA19: =IFERROR(INDEX(Description!$I$2:$I$7,MATCH(Utenti!Z19,Description!$H$2:$H$7,0)),"") -> 0 | AC19: 0 | AD19: 0 | AE19: 0 | AF19: 1 | AG19: =AF19+6 -> 7 | AH19: 1 | AI19: end | AJ19: CP1 | AK19: Magnano
A20: {=IFERROR(INDIRECT(ADDRESS(ROW()-1,COLUMN()))+1,1)} -> 19 | C20: school_500_students | F20: {=_xlfn.IFS(AND(G20,H20),"prosumer",G20,"consumer",H20,"producer")} -> prosumer | G20: =IF(M20<>"",TRUE,FALSE) -> TRUE | H20: =IF(SUM(N20:R20)>0,TRUE,FALSE) -> TRUE | I20: pubblico | J20: 3<P<=4.5 | K20: flat_11 | L20: schema_3 | M20: scuola_500_studenti | N20: 20 | O20: 40 | P20: 180 | S20: TRUE | T20: BT | U20: roof | W20: =IF(AND(H20=FALSE,G20=FALSE),1,0) + IF(AND(NOT(B20),D20>0),1,0) -> 0 | X20: TRUE | Y20: scuola piccola | Z20: Individuale | AA20: =IFERROR(INDEX(Description!$I$2:$I$7,MATCH(Utenti!Z20,Description!$H$2:$H$7,0)),"") -> 0 | AC20: 0 | AD20: 0 | AE20: 0 | AF20: 1 | AG20: =AF20+6 -> 7 | AH20: 1 | AI20: end | AJ20: CP1 | AK20: Magnano
A21: {=IFERROR(INDIRECT(ADDRESS(ROW()-1,COLUMN()))+1,1)} -> 20 | C21: liceo | E21: PA | F21: {=_xlfn.IFS(AND(G21,H21),"prosumer",G21,"consumer",H21,"producer")} -> consumer | G21: =IF(M21<>"",TRUE,FALSE) -> TRUE | H21: =IF(SUM(N21:R21)>0,TRUE,FALSE) -> FALSE | I21: domestico | J21: 3<P<=4.5 | K21: flat_11 | L21: schema_3 | M21: liceo | S21: TRUE | T21: BT | W21: =IF(AND(H21=FALSE,G21=FALSE),1,0) + IF(AND(NOT(B21),D21>0),1,0) -> 0 | X21: TRUE | Y21: liceo | Z21: Individuale | AA21: =IFERROR(INDEX(Description!$I$2:$I$7,MATCH(Utenti!Z21,Description!$H$2:$H$7,0)),"") -> 0 | AC21: 0 | AD21: 0 | AE21: 0 | AF21: 1 | AG21: 1 | AH21: 1 | AI21: end | AJ21: CP1 | AK21: Magnano
A22: {=IFERROR(INDIRECT(ADDRESS(ROW()-1,COLUMN()))+1,1)} -> 21 | C22: condominium_small | F22: {=_xlfn.IFS(AND(G22,H22),"prosumer",G22,"consumer",H22,"producer")} -> prosumer | G22: =IF(M22<>"",TRUE,FALSE) -> TRUE | H22: =IF(SUM(N22:R22)>0,TRUE,FALSE) -> TRUE | I22: commerciale | J22: P>6 | K22: flat_11 | L22: schema_3 | M22: utenza_condominiale_piccola | N22: 10 | O22: 40 | P22: 180 | R22: 3 | S22: TRUE | T22: BT | U22: roof | W22: =IF(AND(H22=FALSE,G22=FALSE),1,0) + IF(AND(NOT(B22),D22>0),1,0) -> 0 | X22: TRUE | Y22: utenza condominiale piccola | Z22: Individuale | AA22: =IFERROR(INDEX(Description!$I$2:$I$7,MATCH(Utenti!Z22,Description!$H$2:$H$7,0)),"") -> 0 | AB22: TRUE | AC22: 0 | AD22: 0 | AE22: 0 | AF22: 1 | AG22: =AF22+2 -> 3 | AH22: 1 | AI22: end | AJ22: CP1 | AK22: Magnano
A23: {=IFERROR(INDIRECT(ADDRESS(ROW()-1,COLUMN()))+1,1)} -> 22 | C23: condominium_medium | F23: {=_xlfn.IFS(AND(G23,H23),"prosumer",G23,"consumer",H23,"producer")} -> prosumer | G23: =IF(M23<>"",TRUE,FALSE) -> TRUE | H23: =IF(SUM(N23:R23)>0,TRUE,FALSE) -> TRUE | I23: commerciale | J23: P>6 | K23: flat_11 | L23: schema_3 | M23: utenza_condominiale_media | N23: 20 | O23: 40 | P23: 180 | R23: 6 | S23: TRUE | T23: BT | U23: roof | W23: =IF(AND(H23=FALSE,G23=FALSE),1,0) + IF(AND(NOT(B23),D23>0),1,0) -> 0 | X23: TRUE | Y23: utenza condominiale media | Z23: Individuale | AA23: =IFERROR(INDEX(Description!$I$2:$I$7,MATCH(Utenti!Z23,Description!$H$2:$H$7,0)),"") -> 0 | AB23: TRUE | AC23: 0 | AD23: 0 | AE23: 0 | AF23: 1 | AG23: =AF23+2 -> 3 | AH23: 1 | AI23: end | AJ23: CP1 | AK23: Magnano
A24: {=IFERROR(INDIRECT(ADDRESS(ROW()-1,COLUMN()))+1,1)} -> 23 | C24: condominium_big | F24: {=_xlfn.IFS(AND(G24,H24),"prosumer",G24,"consumer",H24,"producer")} -> prosumer | G24: =IF(M24<>"",TRUE,FALSE) -> TRUE | H24: =IF(SUM(N24:R24)>0,TRUE,FALSE) -> TRUE | I24: commerciale | J24: P>6 | K24: flat_11 | L24: schema_3 | M24: utenza_condominiale_grande | N24: 40 | O24: 40 | P24: 180 | R24: 12 | S24: TRUE | T24: MT | U24: roof | W24: =IF(AND(H24=FALSE,G24=FALSE),1,0) + IF(AND(NOT(B24),D24>0),1,0) -> 0 | X24: TRUE | Y24: utenza condominiale grande | Z24: Individuale | AA24: =IFERROR(INDEX(Description!$I$2:$I$7,MATCH(Utenti!Z24,Description!$H$2:$H$7,0)),"") -> 0 | AB24: TRUE | AC24: 0 | AD24: 0.4 | AE24: 0 | AF24: 1 | AG24: =AF24+2 -> 3 | AH24: 1 | AI24: end | AJ24: CP1 | AK24: Magnano
D61: 1 | AD61: 0
AD69: 0
AD70: 0
